BEGIN:VCALENDAR
VERSION:2.0
PRODID:icalendar-ruby
CALSCALE:GREGORIAN
X-WR-TIMEZONE:Europe/Helsinki
BEGIN:VTIMEZONE
TZID:Europe/Helsinki
BEGIN:DAYLIGHT
DTSTART:20260329T040000
TZOFFSETFROM:+0200
TZOFFSETTO:+0300
RRULE:FREQ=YEARLY;BYDAY=-1SU;BYMONTH=3
TZNAME:EEST
END:DAYLIGHT
BEGIN:STANDARD
DTSTART:20261025T030000
TZOFFSETFROM:+0300
TZOFFSETTO:+0200
RRULE:FREQ=YEARLY;BYDAY=-1SU;BYMONTH=10
TZNAME:EET
END:STANDARD
END:VTIMEZONE
BEGIN:VEVENT
DTSTAMP:20260423T184805
UID:sudetsalibandy.myclub.fi-9011979
DTSTART;TZID=Europe/Helsinki:20250903T180500
DTEND;TZID=Europe/Helsinki:20250903T180500
DESCRIPTION:Harjoitukset 11.2 - 29.4:  Ke 11.2 klo 17.45-18.30 Eskolanmäen
  liikuntahalli Ke 18.2 klo 18.05-18.50 Lyseon Liikuntahalli Ke 25.2 hiihto
 loma - ei harjoituksia Ke 4.3 klo 17.45-18.30 Eskolanmäen liikuntahalli K
 e 11.3 klo 17.45-18.30 Eskolanmäen liikuntahalli Ke 18.3 klo 17.45-18.30 
 Eskolanmäen liikuntahalli Ke 25.3 klo 17.45-18.30 Eskolanmäen liikuntaha
 lli Ke 1.4 klo 18.05-18.50 Lyseon Liikuntahalli Ke 8.4 klo 18.05-18.50 Lys
 eon Liikuntahalli Ke 15.4 PERUTTU (halli koulun käytössä) Ke 22.4 klo 1
 7.45-18.30 Eskolanmäen liikuntahalli Ke 29.4 klo 17.45-18.30 Eskolanmäen
  liikuntahalli  Siirrot Eskolanmäen kouluun johtuvat Lyseon vuoroperuutuk
 sista. Eskolanmäen koululle mennään sisälle PIN-koodilla\, joka on lä
 hetetty vanhemmille sähköpostilla.\n\nhttps://sudetsalibandy.myclub.fi/f
 low/events/9011979
LOCATION:Lyseon lukion liikuntahalli\, Palomäenkatu 31\, 45100 Kouvola
SEQUENCE:0
SUMMARY:Salibandykoulu 7-9v pojat keskiviikko klo 18.05-18.50 Lyseon Liikun
 tahalli: ILMOITTAUTUMINEN: Salibandykoulu 7-9v pojat keskiviikko klo 18.05
 -18.50 Lyseon Liikuntahalli
URL;VALUE=URI:https://sudetsalibandy.myclub.fi/flow/events/9011979
END:VEVENT
END:VCALENDAR
